BEGIN:VCALENDAR
VERSION:2.0
PRODID:-//My Calendar//http://www.joedolson.com//v3.0.13//EN
METHOD:PUBLISH
CALSCALE:GREGORIAN
X-WR-CALNAME:East Hill Baptist Church
X-PUBLISHED-TTL:PT24H
REFRESH-INTERVAL;VALUE=DURATION:PT24H
X-WR-CALDESC:Events from East Hill Baptist Church
BEGIN:VEVENT
UID:1415-28
LOCATION:
SUMMARY:Spring Harvest
DTSTAMP:20190408T230000Z
ORGANIZER;CN=Richard Lane:MAILTO:lanes@sw18.org.uk
DTSTART;TZID=Europe/London:20190408T230000Z
DTEND;TZID=Europe/London:20190412T230000Z
URL;VALUE=URI:http://www.easthillbaptist.org.uk/my-calendar/
DESCRIPTION: 
CATEGORIES:Special Events
END:VEVENT
BEGIN:VEVENT
UID:3168-26
LOCATION:East Hill Baptist Church 182 East Hill   London  SW18 2HD
SUMMARY:Street Outreach 12:30pm -2pm
DTSTAMP:20170923T113000Z
ORGANIZER;CN=Ray Pountney:MAILTO:pastor@easthillbaptist.org.uk
DTSTART;TZID=Europe/London:20170923T113000Z
DTEND;TZID=Europe/London:20170923T130000Z
URL;VALUE=URI:http://www.easthillbaptist.org.uk/my-calendar/
DESCRIPTION: 
CATEGORIES:Special Events
END:VEVENT
BEGIN:VEVENT
UID:3169-27
LOCATION:East Hill Baptist Church 182 East Hill   London  SW18 2HD
SUMMARY:Street Outreach 12:30pm -2pm
DTSTAMP:20170923T113000Z
ORGANIZER;CN=Ray Pountney:MAILTO:pastor@easthillbaptist.org.uk
DTSTART;TZID=Europe/London:20170923T113000Z
DTEND;TZID=Europe/London:20170923T130000Z
URL;VALUE=URI:http://www.easthillbaptist.org.uk/my-calendar/
DESCRIPTION: 
CATEGORIES:Special Events
END:VEVENT
BEGIN:VEVENT
UID:3142-25
LOCATION:East Hill Baptist Church 182 East Hill   London  SW18 2HD
SUMMARY:Street Outreach 12:30pm -2pm
DTSTAMP:20170917T113000Z
ORGANIZER;CN=Ray Pountney:MAILTO:pastor@easthillbaptist.org.uk
DTSTART;TZID=Europe/London:20170917T113000Z
DTEND;TZID=Europe/London:20170917T130000Z
URL;VALUE=URI:http://www.easthillbaptist.org.uk/my-calendar/
DESCRIPTION: 
CATEGORIES:Special Events
END:VEVENT
BEGIN:VEVENT
UID:3143-25
LOCATION:East Hill Baptist Church 182 East Hill   London  SW18 2HD
SUMMARY:Street Outreach 12:30pm -2pm
DTSTAMP:20170924T113000Z
ORGANIZER;CN=Ray Pountney:MAILTO:pastor@easthillbaptist.org.uk
DTSTART;TZID=Europe/London:20170924T113000Z
DTEND;TZID=Europe/London:20170924T130000Z
URL;VALUE=URI:http://www.easthillbaptist.org.uk/my-calendar/
DESCRIPTION: 
CATEGORIES:Special Events
END:VEVENT
BEGIN:VEVENT
UID:3144-25
LOCATION:East Hill Baptist Church 182 East Hill   London  SW18 2HD
SUMMARY:Street Outreach 12:30pm -2pm
DTSTAMP:20171001T113000Z
ORGANIZER;CN=Ray Pountney:MAILTO:pastor@easthillbaptist.org.uk
DTSTART;TZID=Europe/London:20171001T113000Z
DTEND;TZID=Europe/London:20171001T130000Z
URL;VALUE=URI:http://www.easthillbaptist.org.uk/my-calendar/
DESCRIPTION: 
CATEGORIES:Special Events
END:VEVENT
BEGIN:VEVENT
UID:3145-25
LOCATION:East Hill Baptist Church 182 East Hill   London  SW18 2HD
SUMMARY:Street Outreach 12:30pm -2pm
DTSTAMP:20171008T113000Z
ORGANIZER;CN=Ray Pountney:MAILTO:pastor@easthillbaptist.org.uk
DTSTART;TZID=Europe/London:20171008T113000Z
DTEND;TZID=Europe/London:20171008T130000Z
URL;VALUE=URI:http://www.easthillbaptist.org.uk/my-calendar/
DESCRIPTION: 
CATEGORIES:Special Events
END:VEVENT
BEGIN:VEVENT
UID:3146-25
LOCATION:East Hill Baptist Church 182 East Hill   London  SW18 2HD
SUMMARY:Street Outreach 12:30pm -2pm
DTSTAMP:20171015T113000Z
ORGANIZER;CN=Ray Pountney:MAILTO:pastor@easthillbaptist.org.uk
DTSTART;TZID=Europe/London:20171015T113000Z
DTEND;TZID=Europe/London:20171015T130000Z
URL;VALUE=URI:http://www.easthillbaptist.org.uk/my-calendar/
DESCRIPTION: 
CATEGORIES:Special Events
END:VEVENT
BEGIN:VEVENT
UID:3147-25
LOCATION:East Hill Baptist Church 182 East Hill   London  SW18 2HD
SUMMARY:Street Outreach 12:30pm -2pm
DTSTAMP:20171022T113000Z
ORGANIZER;CN=Ray Pountney:MAILTO:pastor@easthillbaptist.org.uk
DTSTART;TZID=Europe/London:20171022T113000Z
DTEND;TZID=Europe/London:20171022T130000Z
URL;VALUE=URI:http://www.easthillbaptist.org.uk/my-calendar/
DESCRIPTION: 
CATEGORIES:Special Events
END:VEVENT
BEGIN:VEVENT
UID:3148-25
LOCATION:East Hill Baptist Church 182 East Hill   London  SW18 2HD
SUMMARY:Street Outreach 12:30pm -2pm
DTSTAMP:20171029T123000Z
ORGANIZER;CN=Ray Pountney:MAILTO:pastor@easthillbaptist.org.uk
DTSTART;TZID=Europe/London:20171029T123000Z
DTEND;TZID=Europe/London:20171029T140000Z
URL;VALUE=URI:http://www.easthillbaptist.org.uk/my-calendar/
DESCRIPTION: 
CATEGORIES:Special Events
END:VEVENT
BEGIN:VEVENT
UID:3149-25
LOCATION:East Hill Baptist Church 182 East Hill   London  SW18 2HD
SUMMARY:Street Outreach 12:30pm -2pm
DTSTAMP:20171105T123000Z
ORGANIZER;CN=Ray Pountney:MAILTO:pastor@easthillbaptist.org.uk
DTSTART;TZID=Europe/London:20171105T123000Z
DTEND;TZID=Europe/London:20171105T140000Z
URL;VALUE=URI:http://www.easthillbaptist.org.uk/my-calendar/
DESCRIPTION: 
CATEGORIES:Special Events
END:VEVENT
BEGIN:VEVENT
UID:3150-25
LOCATION:East Hill Baptist Church 182 East Hill   London  SW18 2HD
SUMMARY:Street Outreach 12:30pm -2pm
DTSTAMP:20171112T123000Z
ORGANIZER;CN=Ray Pountney:MAILTO:pastor@easthillbaptist.org.uk
DTSTART;TZID=Europe/London:20171112T123000Z
DTEND;TZID=Europe/London:20171112T140000Z
URL;VALUE=URI:http://www.easthillbaptist.org.uk/my-calendar/
DESCRIPTION: 
CATEGORIES:Special Events
END:VEVENT
BEGIN:VEVENT
UID:3151-25
LOCATION:East Hill Baptist Church 182 East Hill   London  SW18 2HD
SUMMARY:Street Outreach 12:30pm -2pm
DTSTAMP:20171119T123000Z
ORGANIZER;CN=Ray Pountney:MAILTO:pastor@easthillbaptist.org.uk
DTSTART;TZID=Europe/London:20171119T123000Z
DTEND;TZID=Europe/London:20171119T140000Z
URL;VALUE=URI:http://www.easthillbaptist.org.uk/my-calendar/
DESCRIPTION: 
CATEGORIES:Special Events
END:VEVENT
BEGIN:VEVENT
UID:3152-25
LOCATION:East Hill Baptist Church 182 East Hill   London  SW18 2HD
SUMMARY:Street Outreach 12:30pm -2pm
DTSTAMP:20171126T123000Z
ORGANIZER;CN=Ray Pountney:MAILTO:pastor@easthillbaptist.org.uk
DTSTART;TZID=Europe/London:20171126T123000Z
DTEND;TZID=Europe/London:20171126T140000Z
URL;VALUE=URI:http://www.easthillbaptist.org.uk/my-calendar/
DESCRIPTION: 
CATEGORIES:Special Events
END:VEVENT
BEGIN:VEVENT
UID:3153-25
LOCATION:East Hill Baptist Church 182 East Hill   London  SW18 2HD
SUMMARY:Street Outreach 12:30pm -2pm
DTSTAMP:20171203T123000Z
ORGANIZER;CN=Ray Pountney:MAILTO:pastor@easthillbaptist.org.uk
DTSTART;TZID=Europe/London:20171203T123000Z
DTEND;TZID=Europe/London:20171203T140000Z
URL;VALUE=URI:http://www.easthillbaptist.org.uk/my-calendar/
DESCRIPTION: 
CATEGORIES:Special Events
END:VEVENT
BEGIN:VEVENT
UID:3154-25
LOCATION:East Hill Baptist Church 182 East Hill   London  SW18 2HD
SUMMARY:Street Outreach 12:30pm -2pm
DTSTAMP:20171210T123000Z
ORGANIZER;CN=Ray Pountney:MAILTO:pastor@easthillbaptist.org.uk
DTSTART;TZID=Europe/London:20171210T123000Z
DTEND;TZID=Europe/London:20171210T140000Z
URL;VALUE=URI:http://www.easthillbaptist.org.uk/my-calendar/
DESCRIPTION: 
CATEGORIES:Special Events
END:VEVENT
BEGIN:VEVENT
UID:3155-25
LOCATION:East Hill Baptist Church 182 East Hill   London  SW18 2HD
SUMMARY:Street Outreach 12:30pm -2pm
DTSTAMP:20171217T123000Z
ORGANIZER;CN=Ray Pountney:MAILTO:pastor@easthillbaptist.org.uk
DTSTART;TZID=Europe/London:20171217T123000Z
DTEND;TZID=Europe/London:20171217T140000Z
URL;VALUE=URI:http://www.easthillbaptist.org.uk/my-calendar/
DESCRIPTION: 
CATEGORIES:Special Events
END:VEVENT
BEGIN:VEVENT
UID:3156-25
LOCATION:East Hill Baptist Church 182 East Hill   London  SW18 2HD
SUMMARY:Street Outreach 12:30pm -2pm
DTSTAMP:20171224T123000Z
ORGANIZER;CN=Ray Pountney:MAILTO:pastor@easthillbaptist.org.uk
DTSTART;TZID=Europe/London:20171224T123000Z
DTEND;TZID=Europe/London:20171224T140000Z
URL;VALUE=URI:http://www.easthillbaptist.org.uk/my-calendar/
DESCRIPTION: 
CATEGORIES:Special Events
END:VEVENT
BEGIN:VEVENT
UID:3157-25
LOCATION:East Hill Baptist Church 182 East Hill   London  SW18 2HD
SUMMARY:Street Outreach 12:30pm -2pm
DTSTAMP:20171231T123000Z
ORGANIZER;CN=Ray Pountney:MAILTO:pastor@easthillbaptist.org.uk
DTSTART;TZID=Europe/London:20171231T123000Z
DTEND;TZID=Europe/London:20171231T140000Z
URL;VALUE=URI:http://www.easthillbaptist.org.uk/my-calendar/
DESCRIPTION: 
CATEGORIES:Special Events
END:VEVENT
BEGIN:VEVENT
UID:3158-25
LOCATION:East Hill Baptist Church 182 East Hill   London  SW18 2HD
SUMMARY:Street Outreach 12:30pm -2pm
DTSTAMP:20180107T123000Z
ORGANIZER;CN=Ray Pountney:MAILTO:pastor@easthillbaptist.org.uk
DTSTART;TZID=Europe/London:20180107T123000Z
DTEND;TZID=Europe/London:20180107T140000Z
URL;VALUE=URI:http://www.easthillbaptist.org.uk/my-calendar/
DESCRIPTION: 
CATEGORIES:Special Events
END:VEVENT
BEGIN:VEVENT
UID:3159-25
LOCATION:East Hill Baptist Church 182 East Hill   London  SW18 2HD
SUMMARY:Street Outreach 12:30pm -2pm
DTSTAMP:20180114T123000Z
ORGANIZER;CN=Ray Pountney:MAILTO:pastor@easthillbaptist.org.uk
DTSTART;TZID=Europe/London:20180114T123000Z
DTEND;TZID=Europe/London:20180114T140000Z
URL;VALUE=URI:http://www.easthillbaptist.org.uk/my-calendar/
DESCRIPTION: 
CATEGORIES:Special Events
END:VEVENT
BEGIN:VEVENT
UID:3160-25
LOCATION:East Hill Baptist Church 182 East Hill   London  SW18 2HD
SUMMARY:Street Outreach 12:30pm -2pm
DTSTAMP:20180121T123000Z
ORGANIZER;CN=Ray Pountney:MAILTO:pastor@easthillbaptist.org.uk
DTSTART;TZID=Europe/London:20180121T123000Z
DTEND;TZID=Europe/London:20180121T140000Z
URL;VALUE=URI:http://www.easthillbaptist.org.uk/my-calendar/
DESCRIPTION: 
CATEGORIES:Special Events
END:VEVENT
BEGIN:VEVENT
UID:3161-25
LOCATION:East Hill Baptist Church 182 East Hill   London  SW18 2HD
SUMMARY:Street Outreach 12:30pm -2pm
DTSTAMP:20180128T123000Z
ORGANIZER;CN=Ray Pountney:MAILTO:pastor@easthillbaptist.org.uk
DTSTART;TZID=Europe/London:20180128T123000Z
DTEND;TZID=Europe/London:20180128T140000Z
URL;VALUE=URI:http://www.easthillbaptist.org.uk/my-calendar/
DESCRIPTION: 
CATEGORIES:Special Events
END:VEVENT
BEGIN:VEVENT
UID:3162-25
LOCATION:East Hill Baptist Church 182 East Hill   London  SW18 2HD
SUMMARY:Street Outreach 12:30pm -2pm
DTSTAMP:20180204T123000Z
ORGANIZER;CN=Ray Pountney:MAILTO:pastor@easthillbaptist.org.uk
DTSTART;TZID=Europe/London:20180204T123000Z
DTEND;TZID=Europe/London:20180204T140000Z
URL;VALUE=URI:http://www.easthillbaptist.org.uk/my-calendar/
DESCRIPTION: 
CATEGORIES:Special Events
END:VEVENT
BEGIN:VEVENT
UID:3163-25
LOCATION:East Hill Baptist Church 182 East Hill   London  SW18 2HD
SUMMARY:Street Outreach 12:30pm -2pm
DTSTAMP:20180211T123000Z
ORGANIZER;CN=Ray Pountney:MAILTO:pastor@easthillbaptist.org.uk
DTSTART;TZID=Europe/London:20180211T123000Z
DTEND;TZID=Europe/London:20180211T140000Z
URL;VALUE=URI:http://www.easthillbaptist.org.uk/my-calendar/
DESCRIPTION: 
CATEGORIES:Special Events
END:VEVENT
BEGIN:VEVENT
UID:3164-25
LOCATION:East Hill Baptist Church 182 East Hill   London  SW18 2HD
SUMMARY:Street Outreach 12:30pm -2pm
DTSTAMP:20180218T123000Z
ORGANIZER;CN=Ray Pountney:MAILTO:pastor@easthillbaptist.org.uk
DTSTART;TZID=Europe/London:20180218T123000Z
DTEND;TZID=Europe/London:20180218T140000Z
URL;VALUE=URI:http://www.easthillbaptist.org.uk/my-calendar/
DESCRIPTION: 
CATEGORIES:Special Events
END:VEVENT
BEGIN:VEVENT
UID:3165-25
LOCATION:East Hill Baptist Church 182 East Hill   London  SW18 2HD
SUMMARY:Street Outreach 12:30pm -2pm
DTSTAMP:20180225T123000Z
ORGANIZER;CN=Ray Pountney:MAILTO:pastor@easthillbaptist.org.uk
DTSTART;TZID=Europe/London:20180225T123000Z
DTEND;TZID=Europe/London:20180225T140000Z
URL;VALUE=URI:http://www.easthillbaptist.org.uk/my-calendar/
DESCRIPTION: 
CATEGORIES:Special Events
END:VEVENT
BEGIN:VEVENT
UID:3166-25
LOCATION:East Hill Baptist Church 182 East Hill   London  SW18 2HD
SUMMARY:Street Outreach 12:30pm -2pm
DTSTAMP:20180304T123000Z
ORGANIZER;CN=Ray Pountney:MAILTO:pastor@easthillbaptist.org.uk
DTSTART;TZID=Europe/London:20180304T123000Z
DTEND;TZID=Europe/London:20180304T140000Z
URL;VALUE=URI:http://www.easthillbaptist.org.uk/my-calendar/
DESCRIPTION: 
CATEGORIES:Special Events
END:VEVENT
BEGIN:VEVENT
UID:3167-25
LOCATION:East Hill Baptist Church 182 East Hill   London  SW18 2HD
SUMMARY:Street Outreach 12:30pm -2pm
DTSTAMP:20180311T123000Z
ORGANIZER;CN=Ray Pountney:MAILTO:pastor@easthillbaptist.org.uk
DTSTART;TZID=Europe/London:20180311T123000Z
DTEND;TZID=Europe/London:20180311T140000Z
URL;VALUE=URI:http://www.easthillbaptist.org.uk/my-calendar/
DESCRIPTION: 
CATEGORIES:Special Events
END:VEVENT
BEGIN:VEVENT
UID:2901-24
LOCATION:East Hill Baptist Church 182 East Hill   London  SW18 2HD
SUMMARY:Young Adult's Bible Study (Balance Union)
DTSTAMP:20170908T183000Z
ORGANIZER;CN=Anderson Nyenwe:MAILTO:anyenwe@gmail.com
DTSTART;TZID=Europe/London:20170908T183000Z
DTEND;TZID=Europe/London:20170908T203000Z
URL;VALUE=URI:http://www.easthillbaptist.org.uk/my-calendar/
DESCRIPTION:Young Adult's Bible Study (Balance Union)Friday's 7:30 at East Hill Baptist Church."A false balance is abomination to the LORD: but a just weight is his delight." KJVProverbs 11:1[SBMAP ID="1"] 
CATEGORIES:Regular Events
END:VEVENT
END:VCALENDAR